BEGIN:VCALENDAR
VERSION:2.0
PRODID:-//Stone Silo Brewery - ECPv6.15.20//NONSGML v1.0//EN
CALSCALE:GREGORIAN
METHOD:PUBLISH
X-WR-CALNAME:Stone Silo Brewery
X-ORIGINAL-URL:https://stonesilobrewery.com
X-WR-CALDESC:Events for Stone Silo Brewery
REFRESH-INTERVAL;VALUE=DURATION:PT1H
X-Robots-Tag:noindex
X-PUBLISHED-TTL:PT1H
BEGIN:VTIMEZONE
TZID:America/New_York
BEGIN:DAYLIGHT
TZOFFSETFROM:-0500
TZOFFSETTO:-0400
TZNAME:EDT
DTSTART:20250309T070000
END:DAYLIGHT
BEGIN:STANDARD
TZOFFSETFROM:-0400
TZOFFSETTO:-0500
TZNAME:EST
DTSTART:20251102T060000
END:STANDARD
BEGIN:DAYLIGHT
TZOFFSETFROM:-0500
TZOFFSETTO:-0400
TZNAME:EDT
DTSTART:20260308T070000
END:DAYLIGHT
BEGIN:STANDARD
TZOFFSETFROM:-0400
TZOFFSETTO:-0500
TZNAME:EST
DTSTART:20261101T060000
END:STANDARD
BEGIN:DAYLIGHT
TZOFFSETFROM:-0500
TZOFFSETTO:-0400
TZNAME:EDT
DTSTART:20270314T070000
END:DAYLIGHT
BEGIN:STANDARD
TZOFFSETFROM:-0400
TZOFFSETTO:-0500
TZNAME:EST
DTSTART:20271107T060000
END:STANDARD
END:VTIMEZONE
BEGIN:VEVENT
DTSTART;TZID=America/New_York:20260626T180000
DTEND;TZID=America/New_York:20260626T210000
DTSTAMP:20260422T061626
CREATED:20260303T203444Z
LAST-MODIFIED:20260306T163350Z
UID:10007335-1782496800-1782507600@stonesilobrewery.com
SUMMARY:Live Music - Anthony Frijia
DESCRIPTION:Anthony Frijia has mastered the art of creating live shows that feel more like intimate conversations than performances.\nRecently voted “Baltimore’s Best Local Artist” in the Baltimore Reader’s Poll\, he knows it’s these intimate conversations to which he owes all of his success as an artist.\nFusing folk\, blues\, and country influences\, Frijia’s lyrically-driven songwriting has captivated audiences in the Mid-Atlantic\, and across the country as a touring artist\, drawing comparisons to Bob Dylan\, Tyler Childers\, and John Mayer. His knack for storytelling and a great lyric have never been more evident than on his most-recent  studio release\, “The Artifacts of Letting Go”\, an 11-track Nomadic Americana record streaming everywhere and now available on vinyl.
URL:https://stonesilobrewery.com/event/live-music-anthony-frijia-4/2026-06-26/
END:VEVENT
BEGIN:VEVENT
DTSTART;TZID=America/New_York:20260919T173000
DTEND;TZID=America/New_York:20260919T203000
DTSTAMP:20260422T061626
CREATED:20260303T203444Z
LAST-MODIFIED:20260306T163350Z
UID:10007347-1789839000-1789849800@stonesilobrewery.com
SUMMARY:Live Music - Anthony Frijia
DESCRIPTION:Anthony Frijia has mastered the art of creating live shows that feel more like intimate conversations than performances.\nRecently voted “Baltimore’s Best Local Artist” in the Baltimore Reader’s Poll\, he knows it’s these intimate conversations to which he owes all of his success as an artist.\nFusing folk\, blues\, and country influences\, Frijia’s lyrically-driven songwriting has captivated audiences in the Mid-Atlantic\, and across the country as a touring artist\, drawing comparisons to Bob Dylan\, Tyler Childers\, and John Mayer. His knack for storytelling and a great lyric have never been more evident than on his most-recent  studio release\, “The Artifacts of Letting Go”\, an 11-track Nomadic Americana record streaming everywhere and now available on vinyl.
URL:https://stonesilobrewery.com/event/live-music-anthony-frijia-4/2026-09-19/
END:VEVENT
END:VCALENDAR