BEGIN:VCALENDAR
VERSION:2.0
PRODID:-//Stone Silo Brewery - ECPv6.15.20//NONSGML v1.0//EN
CALSCALE:GREGORIAN
METHOD:PUBLISH
X-WR-CALNAME:Stone Silo Brewery
X-ORIGINAL-URL:https://stonesilobrewery.com
X-WR-CALDESC:Events for Stone Silo Brewery
REFRESH-INTERVAL;VALUE=DURATION:PT1H
X-Robots-Tag:noindex
X-PUBLISHED-TTL:PT1H
BEGIN:VTIMEZONE
TZID:America/New_York
BEGIN:DAYLIGHT
TZOFFSETFROM:-0500
TZOFFSETTO:-0400
TZNAME:EDT
DTSTART:20250309T070000
END:DAYLIGHT
BEGIN:STANDARD
TZOFFSETFROM:-0400
TZOFFSETTO:-0500
TZNAME:EST
DTSTART:20251102T060000
END:STANDARD
BEGIN:DAYLIGHT
TZOFFSETFROM:-0500
TZOFFSETTO:-0400
TZNAME:EDT
DTSTART:20260308T070000
END:DAYLIGHT
BEGIN:STANDARD
TZOFFSETFROM:-0400
TZOFFSETTO:-0500
TZNAME:EST
DTSTART:20261101T060000
END:STANDARD
BEGIN:DAYLIGHT
TZOFFSETFROM:-0500
TZOFFSETTO:-0400
TZNAME:EDT
DTSTART:20270314T070000
END:DAYLIGHT
BEGIN:STANDARD
TZOFFSETFROM:-0400
TZOFFSETTO:-0500
TZNAME:EST
DTSTART:20271107T060000
END:STANDARD
END:VTIMEZONE
BEGIN:VEVENT
DTSTART;TZID=America/New_York:20260423T160000
DTEND;TZID=America/New_York:20260423T190000
DTSTAMP:20260420T144335
CREATED:20251003T131546Z
LAST-MODIFIED:20251003T201659Z
UID:10004174-1776960000-1776970800@stonesilobrewery.com
SUMMARY:Hoppy Hour (Every Thursday)
DESCRIPTION:$2 off pints!
URL:https://stonesilobrewery.com/event/hoppy-hour-every-thursday/2026-04-23/
END:VEVENT
BEGIN:VEVENT
DTSTART;TZID=America/New_York:20260430T160000
DTEND;TZID=America/New_York:20260430T190000
DTSTAMP:20260420T144335
CREATED:20251003T131546Z
LAST-MODIFIED:20251003T201659Z
UID:10004175-1777564800-1777575600@stonesilobrewery.com
SUMMARY:Hoppy Hour (Every Thursday)
DESCRIPTION:$2 off pints!
URL:https://stonesilobrewery.com/event/hoppy-hour-every-thursday/2026-04-30/
END:VEVENT
BEGIN:VEVENT
DTSTART;TZID=America/New_York:20260507T160000
DTEND;TZID=America/New_York:20260507T190000
DTSTAMP:20260420T144335
CREATED:20251003T131546Z
LAST-MODIFIED:20251003T201659Z
UID:10004176-1778169600-1778180400@stonesilobrewery.com
SUMMARY:Hoppy Hour (Every Thursday)
DESCRIPTION:$2 off pints!
URL:https://stonesilobrewery.com/event/hoppy-hour-every-thursday/2026-05-07/
END:VEVENT
BEGIN:VEVENT
DTSTART;TZID=America/New_York:20260514T160000
DTEND;TZID=America/New_York:20260514T190000
DTSTAMP:20260420T144335
CREATED:20251003T131546Z
LAST-MODIFIED:20251003T201659Z
UID:10004177-1778774400-1778785200@stonesilobrewery.com
SUMMARY:Hoppy Hour (Every Thursday)
DESCRIPTION:$2 off pints!
URL:https://stonesilobrewery.com/event/hoppy-hour-every-thursday/2026-05-14/
END:VEVENT
BEGIN:VEVENT
DTSTART;TZID=America/New_York:20260521T160000
DTEND;TZID=America/New_York:20260521T190000
DTSTAMP:20260420T144335
CREATED:20251003T131546Z
LAST-MODIFIED:20251003T201659Z
UID:10004178-1779379200-1779390000@stonesilobrewery.com
SUMMARY:Hoppy Hour (Every Thursday)
DESCRIPTION:$2 off pints!
URL:https://stonesilobrewery.com/event/hoppy-hour-every-thursday/2026-05-21/
END:VEVENT
BEGIN:VEVENT
DTSTART;TZID=America/New_York:20260528T160000
DTEND;TZID=America/New_York:20260528T190000
DTSTAMP:20260420T144335
CREATED:20251003T131546Z
LAST-MODIFIED:20251003T201659Z
UID:10004179-1779984000-1779994800@stonesilobrewery.com
SUMMARY:Hoppy Hour (Every Thursday)
DESCRIPTION:$2 off pints!
URL:https://stonesilobrewery.com/event/hoppy-hour-every-thursday/2026-05-28/
END:VEVENT
BEGIN:VEVENT
DTSTART;TZID=America/New_York:20260604T160000
DTEND;TZID=America/New_York:20260604T190000
DTSTAMP:20260420T144335
CREATED:20251003T131546Z
LAST-MODIFIED:20251003T201659Z
UID:10004180-1780588800-1780599600@stonesilobrewery.com
SUMMARY:Hoppy Hour (Every Thursday)
DESCRIPTION:$2 off pints!
URL:https://stonesilobrewery.com/event/hoppy-hour-every-thursday/2026-06-04/
END:VEVENT
BEGIN:VEVENT
DTSTART;TZID=America/New_York:20260611T160000
DTEND;TZID=America/New_York:20260611T190000
DTSTAMP:20260420T144335
CREATED:20251003T131546Z
LAST-MODIFIED:20251003T201659Z
UID:10004181-1781193600-1781204400@stonesilobrewery.com
SUMMARY:Hoppy Hour (Every Thursday)
DESCRIPTION:$2 off pints!
URL:https://stonesilobrewery.com/event/hoppy-hour-every-thursday/2026-06-11/
END:VEVENT
BEGIN:VEVENT
DTSTART;TZID=America/New_York:20260618T160000
DTEND;TZID=America/New_York:20260618T190000
DTSTAMP:20260420T144335
CREATED:20251003T131546Z
LAST-MODIFIED:20251003T201659Z
UID:10004182-1781798400-1781809200@stonesilobrewery.com
SUMMARY:Hoppy Hour (Every Thursday)
DESCRIPTION:$2 off pints!
URL:https://stonesilobrewery.com/event/hoppy-hour-every-thursday/2026-06-18/
END:VEVENT
BEGIN:VEVENT
DTSTART;TZID=America/New_York:20260625T160000
DTEND;TZID=America/New_York:20260625T190000
DTSTAMP:20260420T144335
CREATED:20251003T131546Z
LAST-MODIFIED:20251003T201659Z
UID:10004183-1782403200-1782414000@stonesilobrewery.com
SUMMARY:Hoppy Hour (Every Thursday)
DESCRIPTION:$2 off pints!
URL:https://stonesilobrewery.com/event/hoppy-hour-every-thursday/2026-06-25/
END:VEVENT
BEGIN:VEVENT
DTSTART;TZID=America/New_York:20260702T160000
DTEND;TZID=America/New_York:20260702T190000
DTSTAMP:20260420T144335
CREATED:20251003T131546Z
LAST-MODIFIED:20251003T201659Z
UID:10004184-1783008000-1783018800@stonesilobrewery.com
SUMMARY:Hoppy Hour (Every Thursday)
DESCRIPTION:$2 off pints!
URL:https://stonesilobrewery.com/event/hoppy-hour-every-thursday/2026-07-02/
END:VEVENT
BEGIN:VEVENT
DTSTART;TZID=America/New_York:20260709T160000
DTEND;TZID=America/New_York:20260709T190000
DTSTAMP:20260420T144335
CREATED:20251003T131546Z
LAST-MODIFIED:20251003T201659Z
UID:10004185-1783612800-1783623600@stonesilobrewery.com
SUMMARY:Hoppy Hour (Every Thursday)
DESCRIPTION:$2 off pints!
URL:https://stonesilobrewery.com/event/hoppy-hour-every-thursday/2026-07-09/
END:VEVENT
BEGIN:VEVENT
DTSTART;TZID=America/New_York:20260716T160000
DTEND;TZID=America/New_York:20260716T190000
DTSTAMP:20260420T144335
CREATED:20251003T131546Z
LAST-MODIFIED:20251003T201659Z
UID:10004186-1784217600-1784228400@stonesilobrewery.com
SUMMARY:Hoppy Hour (Every Thursday)
DESCRIPTION:$2 off pints!
URL:https://stonesilobrewery.com/event/hoppy-hour-every-thursday/2026-07-16/
END:VEVENT
BEGIN:VEVENT
DTSTART;TZID=America/New_York:20260723T160000
DTEND;TZID=America/New_York:20260723T190000
DTSTAMP:20260420T144335
CREATED:20251003T131546Z
LAST-MODIFIED:20251003T201659Z
UID:10004187-1784822400-1784833200@stonesilobrewery.com
SUMMARY:Hoppy Hour (Every Thursday)
DESCRIPTION:$2 off pints!
URL:https://stonesilobrewery.com/event/hoppy-hour-every-thursday/2026-07-23/
END:VEVENT
BEGIN:VEVENT
DTSTART;TZID=America/New_York:20260730T160000
DTEND;TZID=America/New_York:20260730T190000
DTSTAMP:20260420T144335
CREATED:20251003T131546Z
LAST-MODIFIED:20251003T201659Z
UID:10004188-1785427200-1785438000@stonesilobrewery.com
SUMMARY:Hoppy Hour (Every Thursday)
DESCRIPTION:$2 off pints!
URL:https://stonesilobrewery.com/event/hoppy-hour-every-thursday/2026-07-30/
END:VEVENT
BEGIN:VEVENT
DTSTART;TZID=America/New_York:20260806T160000
DTEND;TZID=America/New_York:20260806T190000
DTSTAMP:20260420T144335
CREATED:20251003T131546Z
LAST-MODIFIED:20251003T201659Z
UID:10004189-1786032000-1786042800@stonesilobrewery.com
SUMMARY:Hoppy Hour (Every Thursday)
DESCRIPTION:$2 off pints!
URL:https://stonesilobrewery.com/event/hoppy-hour-every-thursday/2026-08-06/
END:VEVENT
BEGIN:VEVENT
DTSTART;TZID=America/New_York:20260813T160000
DTEND;TZID=America/New_York:20260813T190000
DTSTAMP:20260420T144335
CREATED:20251003T131546Z
LAST-MODIFIED:20251003T201659Z
UID:10004190-1786636800-1786647600@stonesilobrewery.com
SUMMARY:Hoppy Hour (Every Thursday)
DESCRIPTION:$2 off pints!
URL:https://stonesilobrewery.com/event/hoppy-hour-every-thursday/2026-08-13/
END:VEVENT
BEGIN:VEVENT
DTSTART;TZID=America/New_York:20260820T160000
DTEND;TZID=America/New_York:20260820T190000
DTSTAMP:20260420T144335
CREATED:20251003T131546Z
LAST-MODIFIED:20251003T201659Z
UID:10004191-1787241600-1787252400@stonesilobrewery.com
SUMMARY:Hoppy Hour (Every Thursday)
DESCRIPTION:$2 off pints!
URL:https://stonesilobrewery.com/event/hoppy-hour-every-thursday/2026-08-20/
END:VEVENT
BEGIN:VEVENT
DTSTART;TZID=America/New_York:20260827T160000
DTEND;TZID=America/New_York:20260827T190000
DTSTAMP:20260420T144335
CREATED:20251003T131546Z
LAST-MODIFIED:20251003T201659Z
UID:10004192-1787846400-1787857200@stonesilobrewery.com
SUMMARY:Hoppy Hour (Every Thursday)
DESCRIPTION:$2 off pints!
URL:https://stonesilobrewery.com/event/hoppy-hour-every-thursday/2026-08-27/
END:VEVENT
BEGIN:VEVENT
DTSTART;TZID=America/New_York:20260903T160000
DTEND;TZID=America/New_York:20260903T190000
DTSTAMP:20260420T144335
CREATED:20251003T131546Z
LAST-MODIFIED:20251003T201659Z
UID:10004193-1788451200-1788462000@stonesilobrewery.com
SUMMARY:Hoppy Hour (Every Thursday)
DESCRIPTION:$2 off pints!
URL:https://stonesilobrewery.com/event/hoppy-hour-every-thursday/2026-09-03/
END:VEVENT
BEGIN:VEVENT
DTSTART;TZID=America/New_York:20260910T160000
DTEND;TZID=America/New_York:20260910T190000
DTSTAMP:20260420T144335
CREATED:20251003T131546Z
LAST-MODIFIED:20251003T201659Z
UID:10004194-1789056000-1789066800@stonesilobrewery.com
SUMMARY:Hoppy Hour (Every Thursday)
DESCRIPTION:$2 off pints!
URL:https://stonesilobrewery.com/event/hoppy-hour-every-thursday/2026-09-10/
END:VEVENT
BEGIN:VEVENT
DTSTART;TZID=America/New_York:20260917T160000
DTEND;TZID=America/New_York:20260917T190000
DTSTAMP:20260420T144335
CREATED:20251003T131546Z
LAST-MODIFIED:20251003T201659Z
UID:10004195-1789660800-1789671600@stonesilobrewery.com
SUMMARY:Hoppy Hour (Every Thursday)
DESCRIPTION:$2 off pints!
URL:https://stonesilobrewery.com/event/hoppy-hour-every-thursday/2026-09-17/
END:VEVENT
BEGIN:VEVENT
DTSTART;TZID=America/New_York:20260924T160000
DTEND;TZID=America/New_York:20260924T190000
DTSTAMP:20260420T144335
CREATED:20251003T131546Z
LAST-MODIFIED:20251003T201659Z
UID:10004196-1790265600-1790276400@stonesilobrewery.com
SUMMARY:Hoppy Hour (Every Thursday)
DESCRIPTION:$2 off pints!
URL:https://stonesilobrewery.com/event/hoppy-hour-every-thursday/2026-09-24/
END:VEVENT
BEGIN:VEVENT
DTSTART;TZID=America/New_York:20261001T160000
DTEND;TZID=America/New_York:20261001T190000
DTSTAMP:20260420T144335
CREATED:20251003T131546Z
LAST-MODIFIED:20251003T201659Z
UID:10004197-1790870400-1790881200@stonesilobrewery.com
SUMMARY:Hoppy Hour (Every Thursday)
DESCRIPTION:$2 off pints!
URL:https://stonesilobrewery.com/event/hoppy-hour-every-thursday/2026-10-01/
END:VEVENT
BEGIN:VEVENT
DTSTART;TZID=America/New_York:20261008T160000
DTEND;TZID=America/New_York:20261008T190000
DTSTAMP:20260420T144335
CREATED:20251003T131546Z
LAST-MODIFIED:20251003T201659Z
UID:10004198-1791475200-1791486000@stonesilobrewery.com
SUMMARY:Hoppy Hour (Every Thursday)
DESCRIPTION:$2 off pints!
URL:https://stonesilobrewery.com/event/hoppy-hour-every-thursday/2026-10-08/
END:VEVENT
BEGIN:VEVENT
DTSTART;TZID=America/New_York:20261015T160000
DTEND;TZID=America/New_York:20261015T190000
DTSTAMP:20260420T144335
CREATED:20251003T131546Z
LAST-MODIFIED:20251003T201659Z
UID:10004199-1792080000-1792090800@stonesilobrewery.com
SUMMARY:Hoppy Hour (Every Thursday)
DESCRIPTION:$2 off pints!
URL:https://stonesilobrewery.com/event/hoppy-hour-every-thursday/2026-10-15/
END:VEVENT
BEGIN:VEVENT
DTSTART;TZID=America/New_York:20261022T160000
DTEND;TZID=America/New_York:20261022T190000
DTSTAMP:20260420T144335
CREATED:20251003T131546Z
LAST-MODIFIED:20251003T201659Z
UID:10004200-1792684800-1792695600@stonesilobrewery.com
SUMMARY:Hoppy Hour (Every Thursday)
DESCRIPTION:$2 off pints!
URL:https://stonesilobrewery.com/event/hoppy-hour-every-thursday/2026-10-22/
END:VEVENT
BEGIN:VEVENT
DTSTART;TZID=America/New_York:20261029T160000
DTEND;TZID=America/New_York:20261029T190000
DTSTAMP:20260420T144335
CREATED:20251003T131546Z
LAST-MODIFIED:20251003T201659Z
UID:10004201-1793289600-1793300400@stonesilobrewery.com
SUMMARY:Hoppy Hour (Every Thursday)
DESCRIPTION:$2 off pints!
URL:https://stonesilobrewery.com/event/hoppy-hour-every-thursday/2026-10-29/
END:VEVENT
BEGIN:VEVENT
DTSTART;TZID=America/New_York:20261105T160000
DTEND;TZID=America/New_York:20261105T190000
DTSTAMP:20260420T144335
CREATED:20251003T131546Z
LAST-MODIFIED:20251003T201659Z
UID:10004202-1793894400-1793905200@stonesilobrewery.com
SUMMARY:Hoppy Hour (Every Thursday)
DESCRIPTION:$2 off pints!
URL:https://stonesilobrewery.com/event/hoppy-hour-every-thursday/2026-11-05/
END:VEVENT
BEGIN:VEVENT
DTSTART;TZID=America/New_York:20261112T160000
DTEND;TZID=America/New_York:20261112T190000
DTSTAMP:20260420T144335
CREATED:20251003T131546Z
LAST-MODIFIED:20251003T201659Z
UID:10004203-1794499200-1794510000@stonesilobrewery.com
SUMMARY:Hoppy Hour (Every Thursday)
DESCRIPTION:$2 off pints!
URL:https://stonesilobrewery.com/event/hoppy-hour-every-thursday/2026-11-12/
END:VEVENT
END:VCALENDAR