BEGIN:VCALENDAR
VERSION:2.0
PRODID:-//Stone Silo Brewery - ECPv6.15.20//NONSGML v1.0//EN
CALSCALE:GREGORIAN
METHOD:PUBLISH
X-WR-CALNAME:Stone Silo Brewery
X-ORIGINAL-URL:https://stonesilobrewery.com
X-WR-CALDESC:Events for Stone Silo Brewery
REFRESH-INTERVAL;VALUE=DURATION:PT1H
X-Robots-Tag:noindex
X-PUBLISHED-TTL:PT1H
BEGIN:VTIMEZONE
TZID:America/New_York
BEGIN:DAYLIGHT
TZOFFSETFROM:-0500
TZOFFSETTO:-0400
TZNAME:EDT
DTSTART:20230312T070000
END:DAYLIGHT
BEGIN:STANDARD
TZOFFSETFROM:-0400
TZOFFSETTO:-0500
TZNAME:EST
DTSTART:20231105T060000
END:STANDARD
BEGIN:DAYLIGHT
TZOFFSETFROM:-0500
TZOFFSETTO:-0400
TZNAME:EDT
DTSTART:20240310T070000
END:DAYLIGHT
BEGIN:STANDARD
TZOFFSETFROM:-0400
TZOFFSETTO:-0500
TZNAME:EST
DTSTART:20241103T060000
END:STANDARD
BEGIN:DAYLIGHT
TZOFFSETFROM:-0500
TZOFFSETTO:-0400
TZNAME:EDT
DTSTART:20250309T070000
END:DAYLIGHT
BEGIN:STANDARD
TZOFFSETFROM:-0400
TZOFFSETTO:-0500
TZNAME:EST
DTSTART:20251102T060000
END:STANDARD
END:VTIMEZONE
BEGIN:VEVENT
DTSTART;TZID=America/New_York:20240802T170000
DTEND;TZID=America/New_York:20240802T200000
DTSTAMP:20260423T081532
CREATED:20240730T183803Z
LAST-MODIFIED:20240731T123412Z
UID:10002978-1722618000-1722628800@stonesilobrewery.com
SUMMARY:Food Truck - Three Daughters
DESCRIPTION:
URL:https://stonesilobrewery.com/event/food-truck-three-daughters-3/
END:VEVENT
BEGIN:VEVENT
DTSTART;TZID=America/New_York:20240802T180000
DTEND;TZID=America/New_York:20240802T210000
DTSTAMP:20260423T081532
CREATED:20240730T182107Z
LAST-MODIFIED:20240730T182107Z
UID:10002970-1722621600-1722632400@stonesilobrewery.com
SUMMARY:Live Music - Mark Johnson
DESCRIPTION:
URL:https://stonesilobrewery.com/event/live-music-mark-johnson/
END:VEVENT
BEGIN:VEVENT
DTSTART;TZID=America/New_York:20240803T180000
DTEND;TZID=America/New_York:20240803T210000
DTSTAMP:20260423T081532
CREATED:20240730T182154Z
LAST-MODIFIED:20240730T182154Z
UID:10002971-1722708000-1722718800@stonesilobrewery.com
SUMMARY:Live Music - John DeCesare
DESCRIPTION:
URL:https://stonesilobrewery.com/event/live-music-john-decesare-2/
END:VEVENT
BEGIN:VEVENT
DTSTART;TZID=America/New_York:20240809T180000
DTEND;TZID=America/New_York:20240809T210000
DTSTAMP:20260423T081532
CREATED:20240730T182754Z
LAST-MODIFIED:20240730T182754Z
UID:10002972-1723226400-1723237200@stonesilobrewery.com
SUMMARY:Live Music - Ben Fisher
DESCRIPTION:
URL:https://stonesilobrewery.com/event/live-music-ben-fisher-2/
END:VEVENT
BEGIN:VEVENT
DTSTART;TZID=America/New_York:20240810T180000
DTEND;TZID=America/New_York:20240810T210000
DTSTAMP:20260423T081532
CREATED:20240730T182902Z
LAST-MODIFIED:20240730T182902Z
UID:10002973-1723312800-1723323600@stonesilobrewery.com
SUMMARY:Live Music - Domenic Cicala
DESCRIPTION:
URL:https://stonesilobrewery.com/event/live-music-domenic-cicala/
END:VEVENT
BEGIN:VEVENT
DTSTART;TZID=America/New_York:20240816T120000
DTEND;TZID=America/New_York:20240816T200000
DTSTAMP:20260423T081532
CREATED:20240730T184000Z
LAST-MODIFIED:20240730T184000Z
UID:10002979-1723809600-1723838400@stonesilobrewery.com
SUMMARY:Food Truck - Three Daughters
DESCRIPTION:
URL:https://stonesilobrewery.com/event/food-truck-three-daughters-4/
END:VEVENT
BEGIN:VEVENT
DTSTART;TZID=America/New_York:20240816T180000
DTEND;TZID=America/New_York:20240816T210000
DTSTAMP:20260423T081532
CREATED:20240730T183103Z
LAST-MODIFIED:20240730T183103Z
UID:10002974-1723831200-1723842000@stonesilobrewery.com
SUMMARY:Live Music - Michelle Lockey
DESCRIPTION:
URL:https://stonesilobrewery.com/event/live-music-michelle-lockey/
END:VEVENT
BEGIN:VEVENT
DTSTART;TZID=America/New_York:20240817T180000
DTEND;TZID=America/New_York:20240817T210000
DTSTAMP:20260423T081532
CREATED:20240730T183140Z
LAST-MODIFIED:20240815T193016Z
UID:10002975-1723917600-1723928400@stonesilobrewery.com
SUMMARY:Live Music - John DeCesare
DESCRIPTION:
URL:https://stonesilobrewery.com/event/live-music-john-decesare-3/
END:VEVENT
BEGIN:VEVENT
DTSTART;TZID=America/New_York:20240822T120000
DTEND;TZID=America/New_York:20240822T210000
DTSTAMP:20260423T081532
CREATED:20240806T190904Z
LAST-MODIFIED:20240806T190904Z
UID:10002980-1724328000-1724360400@stonesilobrewery.com
SUMMARY:Back to School Teacher Appreciation Day
DESCRIPTION:$2 off tulip and pint glasses of beer\, hard seltzer or frozen seltzer
URL:https://stonesilobrewery.com/event/back-to-school-teacher-appreciation-day/
END:VEVENT
BEGIN:VEVENT
DTSTART;TZID=America/New_York:20240823T180000
DTEND;TZID=America/New_York:20240823T210000
DTSTAMP:20260423T081532
CREATED:20240730T183218Z
LAST-MODIFIED:20240730T183218Z
UID:10002976-1724436000-1724446800@stonesilobrewery.com
SUMMARY:Live Music - Paul Barrios
DESCRIPTION:
URL:https://stonesilobrewery.com/event/live-music-paul-barrios/
END:VEVENT
BEGIN:VEVENT
DTSTART;TZID=America/New_York:20240829T183000
DTEND;TZID=America/New_York:20240829T193000
DTSTAMP:20260423T081532
CREATED:20240812T001722Z
LAST-MODIFIED:20240812T001722Z
UID:10002981-1724956200-1724959800@stonesilobrewery.com
SUMMARY:Sunset Yoga - Louann Honacki
DESCRIPTION:Sunset Yoga including a refreshing beer  or seltzer to follow. Fee is $20 per person.  Bring your mat.
URL:https://stonesilobrewery.com/event/sunset-yoga-louann-honacki-4/
END:VEVENT
BEGIN:VEVENT
DTSTART;TZID=America/New_York:20240830T180000
DTEND;TZID=America/New_York:20240830T210000
DTSTAMP:20260423T081532
CREATED:20240730T183308Z
LAST-MODIFIED:20240730T183308Z
UID:10002977-1725040800-1725051600@stonesilobrewery.com
SUMMARY:Live Music - Dave Zelonka
DESCRIPTION:
URL:https://stonesilobrewery.com/event/live-music-dave-zelonka/
END:VEVENT
END:VCALENDAR