BEGIN:VCALENDAR
VERSION:2.0
PRODID:-//Stone Silo Brewery - ECPv6.15.20//NONSGML v1.0//EN
CALSCALE:GREGORIAN
METHOD:PUBLISH
X-ORIGINAL-URL:https://stonesilobrewery.com
X-WR-CALDESC:Events for Stone Silo Brewery
REFRESH-INTERVAL;VALUE=DURATION:PT1H
X-Robots-Tag:noindex
X-PUBLISHED-TTL:PT1H
BEGIN:VTIMEZONE
TZID:America/New_York
BEGIN:DAYLIGHT
TZOFFSETFROM:-0500
TZOFFSETTO:-0400
TZNAME:EDT
DTSTART:20230312T070000
END:DAYLIGHT
BEGIN:STANDARD
TZOFFSETFROM:-0400
TZOFFSETTO:-0500
TZNAME:EST
DTSTART:20231105T060000
END:STANDARD
BEGIN:DAYLIGHT
TZOFFSETFROM:-0500
TZOFFSETTO:-0400
TZNAME:EDT
DTSTART:20240310T070000
END:DAYLIGHT
BEGIN:STANDARD
TZOFFSETFROM:-0400
TZOFFSETTO:-0500
TZNAME:EST
DTSTART:20241103T060000
END:STANDARD
BEGIN:DAYLIGHT
TZOFFSETFROM:-0500
TZOFFSETTO:-0400
TZNAME:EDT
DTSTART:20250309T070000
END:DAYLIGHT
BEGIN:STANDARD
TZOFFSETFROM:-0400
TZOFFSETTO:-0500
TZNAME:EST
DTSTART:20251102T060000
END:STANDARD
END:VTIMEZONE
BEGIN:VTIMEZONE
TZID:UTC
BEGIN:STANDARD
TZOFFSETFROM:+0000
TZOFFSETTO:+0000
TZNAME:UTC
DTSTART:20230101T000000
END:STANDARD
END:VTIMEZONE
BEGIN:VEVENT
DTSTART;TZID=America/New_York:20240705T180000
DTEND;TZID=America/New_York:20240705T210000
DTSTAMP:20260419T101714
CREATED:20240629T201705Z
LAST-MODIFIED:20240629T201705Z
UID:10001658-1720202400-1720213200@stonesilobrewery.com
SUMMARY:Live Music - John DeCesare
DESCRIPTION:
URL:https://stonesilobrewery.com/event/live-music-john-decesare/
END:VEVENT
BEGIN:VEVENT
DTSTART;TZID=UTC:20240706T180000
DTEND;TZID=UTC:20240706T210000
DTSTAMP:20260419T101714
CREATED:20240430T004235Z
LAST-MODIFIED:20240520T225942Z
UID:10001596-1720288800-1720299600@stonesilobrewery.com
SUMMARY:Live Music - Marc Delgado
DESCRIPTION:
URL:https://stonesilobrewery.com/event/music-marc-delgado-3/
END:VEVENT
BEGIN:VEVENT
DTSTART;TZID=America/New_York:20240712T180000
DTEND;TZID=America/New_York:20240712T210000
DTSTAMP:20260419T101714
CREATED:20240629T202544Z
LAST-MODIFIED:20240629T202544Z
UID:10001660-1720807200-1720818000@stonesilobrewery.com
SUMMARY:Live Music - Ben Fisher
DESCRIPTION:
URL:https://stonesilobrewery.com/event/live-music-ben-fisher/
END:VEVENT
BEGIN:VEVENT
DTSTART;TZID=UTC:20240713T180000
DTEND;TZID=UTC:20240713T210000
DTSTAMP:20260419T101714
CREATED:20240430T011248Z
LAST-MODIFIED:20240430T011248Z
UID:10001598-1720893600-1720904400@stonesilobrewery.com
SUMMARY:Music - Paul Barrios
DESCRIPTION:
URL:https://stonesilobrewery.com/event/music-paul-barrios-4/
END:VEVENT
BEGIN:VEVENT
DTSTART;TZID=America/New_York:20240720T120000
DTEND;TZID=America/New_York:20240720T200000
DTSTAMP:20260419T101714
CREATED:20240717T161944Z
LAST-MODIFIED:20240717T161944Z
UID:10002706-1721476800-1721505600@stonesilobrewery.com
SUMMARY:Food Truck - Three Daughters
DESCRIPTION:
URL:https://stonesilobrewery.com/event/food-truck-three-daughters-2/
END:VEVENT
BEGIN:VEVENT
DTSTART;TZID=UTC:20240720T180000
DTEND;TZID=UTC:20240720T210000
DTSTAMP:20260419T101714
CREATED:20240430T011514Z
LAST-MODIFIED:20240430T011514Z
UID:10001600-1721498400-1721509200@stonesilobrewery.com
SUMMARY:Music - Ron Capruso
DESCRIPTION:
URL:https://stonesilobrewery.com/event/music-ron-capruso-2/
END:VEVENT
BEGIN:VEVENT
DTSTART;TZID=UTC:20240727T180000
DTEND;TZID=UTC:20240727T210000
DTSTAMP:20260419T101714
CREATED:20240430T011646Z
LAST-MODIFIED:20240430T011646Z
UID:10001602-1722103200-1722114000@stonesilobrewery.com
SUMMARY:Music - Andy Carignan
DESCRIPTION:
URL:https://stonesilobrewery.com/event/music-andy-carignan-4/
END:VEVENT
END:VCALENDAR