BEGIN:VCALENDAR
VERSION:2.0
PRODID:-//Stone Silo Brewery - ECPv6.15.20//NONSGML v1.0//EN
CALSCALE:GREGORIAN
METHOD:PUBLISH
X-ORIGINAL-URL:https://stonesilobrewery.com
X-WR-CALDESC:Events for Stone Silo Brewery
REFRESH-INTERVAL;VALUE=DURATION:PT1H
X-Robots-Tag:noindex
X-PUBLISHED-TTL:PT1H
BEGIN:VTIMEZONE
TZID:America/New_York
BEGIN:DAYLIGHT
TZOFFSETFROM:-0500
TZOFFSETTO:-0400
TZNAME:EDT
DTSTART:20250309T070000
END:DAYLIGHT
BEGIN:STANDARD
TZOFFSETFROM:-0400
TZOFFSETTO:-0500
TZNAME:EST
DTSTART:20251102T060000
END:STANDARD
BEGIN:DAYLIGHT
TZOFFSETFROM:-0500
TZOFFSETTO:-0400
TZNAME:EDT
DTSTART:20260308T070000
END:DAYLIGHT
BEGIN:STANDARD
TZOFFSETFROM:-0400
TZOFFSETTO:-0500
TZNAME:EST
DTSTART:20261101T060000
END:STANDARD
BEGIN:DAYLIGHT
TZOFFSETFROM:-0500
TZOFFSETTO:-0400
TZNAME:EDT
DTSTART:20270314T070000
END:DAYLIGHT
BEGIN:STANDARD
TZOFFSETFROM:-0400
TZOFFSETTO:-0500
TZNAME:EST
DTSTART:20271107T060000
END:STANDARD
END:VTIMEZONE
BEGIN:VEVENT
DTSTART;TZID=America/New_York:20260329T120000
DTEND;TZID=America/New_York:20260329T133000
DTSTAMP:20260419T121500
CREATED:20251118T143326Z
LAST-MODIFIED:20260321T130157Z
UID:10007289-1774785600-1774791000@stonesilobrewery.com
SUMMARY:Pasta like a Pro Workshop
DESCRIPTION:Hands on PASTA workshop\, no prior pasta making experience required! \nYou can make pasta anywhere as long as you have flour and water. This workshop is all about using your hands and some basic tools: no eggs\, no machines or fancy equipment required. You will learn how to make a classic southern Italian pasta dough by hand\, which will then be hand-formed into some traditional southern Italian shapes. The pasta you make will serve two adults. Your pasta will be packaged and ready to bring home at the end of class. Cooking and storing instructions are included. \nThis is a hands-on pasta workshop\, led by Chef Laurie Boucher (@baltimorehomecook)\, pasta chef at Cafe Campli and owner of Pasta Made Simple\, which hosts private at home pasta parties\, group classes\, and pasta-making events. \nFAQs \nNo prior pasta making experience necessary. \nThis class will include a dough making demonstration by Chef Laurie. \nWith pre-prepared pasta dough\, you will learn how to create a number of interesting and unique regional pasta shapes by hand using common household tools as well as being introduced to more specialized pasta tools. \nChef Laurie will demonstrate how to form a variety of southern hand formed shapes\, and you will then transform your own dough into those beautiful pasta shapes. \nThe pasta you make will create two adult portions of pasta which will be packaged to go at the end of class. \nCooking and storing instructions included for each participant. \nYour ticket includes one complimentary beverage from Stone Silo\, additional beverages will be available for purchase during the event. Please drink responsibly. \nThis class is not gluten free. \nWe reserve the right to alter or cancel a cooking class due to unforeseen circumstances. If any alterations or cancellations occur\, every effort will be made to contact and accommodate participants. In the event of a class cancellation due to unforeseen circumstances\, we are happy to refund the full cost of the class to you. \nLink to sign up for this class: https://PastaLikeaProatSiloPointBrewery.eventbrite.com \n 
URL:https://stonesilobrewery.com/event/pasta-like-a-pro-workshop-2/
END:VEVENT
BEGIN:VEVENT
DTSTART;TZID=America/New_York:20260329T120000
DTEND;TZID=America/New_York:20260329T190000
DTSTAMP:20260419T121500
CREATED:20251016T154113Z
LAST-MODIFIED:20251022T120407Z
UID:10007042-1774785600-1774810800@stonesilobrewery.com
SUMMARY:Food Truck- The Silo Kitchen (Sunday)
DESCRIPTION:Serving up handcrafted pizzas and rotating seasonal food items.
URL:https://stonesilobrewery.com/event/food-truck-the-silo-kitchen-sunday/2026-03-29/
END:VEVENT
END:VCALENDAR