BEGIN:VCALENDAR
VERSION:2.0
PRODID:-//Stone Silo Brewery - ECPv6.15.20//NONSGML v1.0//EN
CALSCALE:GREGORIAN
METHOD:PUBLISH
X-WR-CALNAME:Stone Silo Brewery
X-ORIGINAL-URL:https://stonesilobrewery.com
X-WR-CALDESC:Events for Stone Silo Brewery
REFRESH-INTERVAL;VALUE=DURATION:PT1H
X-Robots-Tag:noindex
X-PUBLISHED-TTL:PT1H
BEGIN:VTIMEZONE
TZID:America/New_York
BEGIN:DAYLIGHT
TZOFFSETFROM:-0500
TZOFFSETTO:-0400
TZNAME:EDT
DTSTART:20240310T070000
END:DAYLIGHT
BEGIN:STANDARD
TZOFFSETFROM:-0400
TZOFFSETTO:-0500
TZNAME:EST
DTSTART:20241103T060000
END:STANDARD
BEGIN:DAYLIGHT
TZOFFSETFROM:-0500
TZOFFSETTO:-0400
TZNAME:EDT
DTSTART:20250309T070000
END:DAYLIGHT
BEGIN:STANDARD
TZOFFSETFROM:-0400
TZOFFSETTO:-0500
TZNAME:EST
DTSTART:20251102T060000
END:STANDARD
BEGIN:DAYLIGHT
TZOFFSETFROM:-0500
TZOFFSETTO:-0400
TZNAME:EDT
DTSTART:20260308T070000
END:DAYLIGHT
BEGIN:STANDARD
TZOFFSETFROM:-0400
TZOFFSETTO:-0500
TZNAME:EST
DTSTART:20261101T060000
END:STANDARD
END:VTIMEZONE
BEGIN:VEVENT
DTSTART;TZID=America/New_York:20250918T190000
DTEND;TZID=America/New_York:20250918T213000
DTSTAMP:20260423T062028
CREATED:20250206T183231Z
LAST-MODIFIED:20250710T143404Z
UID:10003635-1758222000-1758231000@stonesilobrewery.com
SUMMARY:Stand Up Comedy Night (Beer Run Comedy)
DESCRIPTION:Link to Purchase Tickets\n\nThe Beer Run Comedy crew is coming to Damascus\, Maryland!!!!\n\nBEER RUN COMEDY IS COMING TO DAMASCUS\, MD!!!Beer Run Comedy is a dynamic comedy group that brings the laughter and good times wherever they go. Led by the hilarious duo of Ray Jubela and Steve Tracy\, Beer Run Comedy delivers top-notch stand-up performances that will leave you in stitches. With a passion for comedy and a dedication to their craft\, these talented comedians have established themselves as fixtures in the Washington DC/Maryland/Virginia (DMV) comedy scene. Each with their own unique style and perspective\, Ray and Steve bring a diverse range of humor to the stage\, guaranteeing a night filled with uproarious laughter and unforgettable moments. Whether they’re performing at renowned comedy clubs\, festivals\, or your favorite brewery\, winery or cider house\, Beer Run Comedy is sure to bring the joy and entertainment that will keep you coming back for more. Get ready for a comedy experience like no other with Beer Run Comedy!\nThe guys will be appearing at Stone Silo Brewing in Damascus\, MD on Thursday April 10 2025 at 7:00pm!!! Tickets are $20.00 online\, and $25.00 at the door.\nStand Up Comedy Night at Stone Silo BreweryThursday April 10\, 2025 @7:00pmTickets: $20.00 online\, $25.00 at the doorStone Silo Brewery 28800 Kemptown Road\, Damascus\, MD 20872\n\nMeet the ComediansSteve TracySteve Tracy is a standup comedian that has honed his craft working on the Baltimore\, Maryland comedy scene. His time as a comic in Charm City has enabled Steve to use his sharp mind and quick wit to craft well-conceived\, hilarious jokes\, as well as develop his own unique style of interacting with audiences. Steve’s material reflects his experience with relationships\, family\, friends\, and the world around us. Steve has performed at Magooby’s Joke House (Baltimore)\, DC Comedy Loft\, Wiley’s Comedy Club (Dayton)\, Harrisburg Comedy Zone (PA)\, The Grisly Pear (NYC) and The PIT Theater (NYC). Steve is the co-host of the Two Joke Minimum Podcast\, which can be heard weekly on Spotify\, Apple Podcasts\, iHeart Radio\, Amazon Music.\n\n\nRay JubelaRay is a Washington DC based comedian who grew up idolizing George Carlin\, and dreamed that one day he would be on stage bringing the laughter. While that dream was not realized until he was in his late 40’s\, he has made up for lost time by being one of the hardest working comics in the DC/Maryland/Virginia area. Ray is a big guy with a big heart\, and an even bigger body! He has appeared at the DC Improv\, Magooby’s Joke House (Baltimore)\, Broadway Comedy Club\, New York Comedy Club\, Greenwich Village Comedy Club\, Hyena’s Comedy Club (Fort Worth\, TX)\, Wiley’s Comedy Club (Dayton\, OH)\, The Creek and the Cave (Austin\, TX)\, 5th Borough Comedy Festival (NYC)\, Finger Lakes Comedy Festival (NY)\, and New South Comedy Festival (SC). Ray also co-hosts the Two Joke Minimum Podcast\, which can be heard weekly on Spotify\, Apple Podcasts\, iHeart Radio and Amazon Music. https://www.rayjubelacomedy.com \nSee less
URL:https://stonesilobrewery.com/event/stand-up-comedy-night-beer-run-comedy/
END:VEVENT
END:VCALENDAR