BEGIN:VCALENDAR
VERSION:2.0
PRODID:-//Stone Silo Brewery - ECPv6.15.20//NONSGML v1.0//EN
CALSCALE:GREGORIAN
METHOD:PUBLISH
X-WR-CALNAME:Stone Silo Brewery
X-ORIGINAL-URL:https://stonesilobrewery.com
X-WR-CALDESC:Events for Stone Silo Brewery
REFRESH-INTERVAL;VALUE=DURATION:PT1H
X-Robots-Tag:noindex
X-PUBLISHED-TTL:PT1H
BEGIN:VTIMEZONE
TZID:America/New_York
BEGIN:DAYLIGHT
TZOFFSETFROM:-0500
TZOFFSETTO:-0400
TZNAME:EDT
DTSTART:20240310T070000
END:DAYLIGHT
BEGIN:STANDARD
TZOFFSETFROM:-0400
TZOFFSETTO:-0500
TZNAME:EST
DTSTART:20241103T060000
END:STANDARD
BEGIN:DAYLIGHT
TZOFFSETFROM:-0500
TZOFFSETTO:-0400
TZNAME:EDT
DTSTART:20250309T070000
END:DAYLIGHT
BEGIN:STANDARD
TZOFFSETFROM:-0400
TZOFFSETTO:-0500
TZNAME:EST
DTSTART:20251102T060000
END:STANDARD
BEGIN:DAYLIGHT
TZOFFSETFROM:-0500
TZOFFSETTO:-0400
TZNAME:EDT
DTSTART:20260308T070000
END:DAYLIGHT
BEGIN:STANDARD
TZOFFSETFROM:-0400
TZOFFSETTO:-0500
TZNAME:EST
DTSTART:20261101T060000
END:STANDARD
END:VTIMEZONE
BEGIN:VEVENT
DTSTART;TZID=America/New_York:20250906T120000
DTEND;TZID=America/New_York:20250906T203000
DTSTAMP:20260419T152039
CREATED:20250804T195948Z
LAST-MODIFIED:20250804T195948Z
UID:10004102-1757160000-1757190600@stonesilobrewery.com
SUMMARY:Food Truck - Burrito Ranchero
DESCRIPTION:
URL:https://stonesilobrewery.com/event/food-truck-burrito-ranchero-2/
END:VEVENT
BEGIN:VEVENT
DTSTART;TZID=America/New_York:20250906T173000
DTEND;TZID=America/New_York:20250906T203000
DTSTAMP:20260419T152039
CREATED:20250821T112922Z
LAST-MODIFIED:20260306T173336Z
UID:10004118-1757179800-1757190600@stonesilobrewery.com
SUMMARY:Live Music - Ali Tod
DESCRIPTION:Ali fuses classical training with percussive fingerstyle guitar\, loop-pedal wizardry\, and raw\, soul-stirring vocals—drawing comparisons to Rodrigo y Gabriela and KT Tunstall. Her dynamic performances have wowed audiences from Mexico to the UK\, earning praise from industry legends\, including Brandi Carlile\, who said: “She’s ten times the musician we are!” \n🎶 Collaborations & Original Work\nAli has collaborated with iconic artists including Gabriela Quintero\, Vicki Genfan\, and The Voice UK finalist Sally Barker on her upcoming album “Monumental Journey”\, mixed by GRAMMY-winning producer Niko Bolas (Neil Young\, Brandi Carlile). Her second EP “Lumbini ’20” was recorded at Rodrigo y Gabriela’s private studio. \n🎥 Watch Ali in Action:\n• “Down” – NPR Tiny Desk Contest 2025 submission: Watch here  \n • “Cuba Street” – Ali Tod & Jenny Clifford: Watch here \n🔗 Explore More:\n• Website: www.alitodmusic.com\n• Instagram: @alitodguitar\n• Facebook: Ali Tod Guitarist \n🎓 Classically Trained & Globally Recognized\nAli holds a Bachelor of Music in Classical Guitar with Honours and a Postgraduate Diploma in Music Education from the University of Edinburgh. She is the founder of Edinburgh Guitar Night\, a concert series that has hosted world-class guitarists from over 10 countries\, and continues to grow as a premier platform for guitar-focused live performance.
URL:https://stonesilobrewery.com/event/live-music-ali-tod-2/2025-09-06/
END:VEVENT
END:VCALENDAR