BEGIN:VCALENDAR
VERSION:2.0
PRODID:-//Stone Silo Brewery - ECPv6.15.20//NONSGML v1.0//EN
CALSCALE:GREGORIAN
METHOD:PUBLISH
X-ORIGINAL-URL:https://stonesilobrewery.com
X-WR-CALDESC:Events for Stone Silo Brewery
REFRESH-INTERVAL;VALUE=DURATION:PT1H
X-Robots-Tag:noindex
X-PUBLISHED-TTL:PT1H
BEGIN:VTIMEZONE
TZID:America/New_York
BEGIN:DAYLIGHT
TZOFFSETFROM:-0500
TZOFFSETTO:-0400
TZNAME:EDT
DTSTART:20240310T070000
END:DAYLIGHT
BEGIN:STANDARD
TZOFFSETFROM:-0400
TZOFFSETTO:-0500
TZNAME:EST
DTSTART:20241103T060000
END:STANDARD
BEGIN:DAYLIGHT
TZOFFSETFROM:-0500
TZOFFSETTO:-0400
TZNAME:EDT
DTSTART:20250309T070000
END:DAYLIGHT
BEGIN:STANDARD
TZOFFSETFROM:-0400
TZOFFSETTO:-0500
TZNAME:EST
DTSTART:20251102T060000
END:STANDARD
BEGIN:DAYLIGHT
TZOFFSETFROM:-0500
TZOFFSETTO:-0400
TZNAME:EDT
DTSTART:20260308T070000
END:DAYLIGHT
BEGIN:STANDARD
TZOFFSETFROM:-0400
TZOFFSETTO:-0500
TZNAME:EST
DTSTART:20261101T060000
END:STANDARD
END:VTIMEZONE
BEGIN:VEVENT
DTSTART;TZID=America/New_York:20250822T120000
DTEND;TZID=America/New_York:20250822T200000
DTSTAMP:20260419T153033
CREATED:20250730T121817Z
LAST-MODIFIED:20250807T191151Z
UID:10004099-1755864000-1755892800@stonesilobrewery.com
SUMMARY:Food Truck - Square Taco
DESCRIPTION:
URL:https://stonesilobrewery.com/event/food-truck-square-taco-5/
END:VEVENT
BEGIN:VEVENT
DTSTART;TZID=America/New_York:20250822T180000
DTEND;TZID=America/New_York:20250822T210000
DTSTAMP:20260419T153033
CREATED:20250819T233913Z
LAST-MODIFIED:20250819T234011Z
UID:10004116-1755885600-1755896400@stonesilobrewery.com
SUMMARY:Live Music- Wild Aster
DESCRIPTION:Wild Aster is an up and coming acoustic trio from Frederick\, MD\, weaving roots\, rhythm\, and raw emotion into every set. Known for their dynamic performances and heartfelt recordings\, Wild Aster takes audiences on a journey—one moment you’re stomping your feet\, the next you’re laughing out loud\, or wiping away a quiet tear. From festival stages and concert halls to cozy backyards and living rooms\, they bring the same fire and feeling wherever they go.
URL:https://stonesilobrewery.com/event/live-music-wild-aster/
END:VEVENT
END:VCALENDAR