BEGIN:VCALENDAR
VERSION:2.0
PRODID:-//Stone Silo Brewery - ECPv6.15.20//NONSGML v1.0//EN
CALSCALE:GREGORIAN
METHOD:PUBLISH
X-WR-CALNAME:Stone Silo Brewery
X-ORIGINAL-URL:https://stonesilobrewery.com
X-WR-CALDESC:Events for Stone Silo Brewery
REFRESH-INTERVAL;VALUE=DURATION:PT1H
X-Robots-Tag:noindex
X-PUBLISHED-TTL:PT1H
BEGIN:VTIMEZONE
TZID:UTC
BEGIN:STANDARD
TZOFFSETFROM:+0000
TZOFFSETTO:+0000
TZNAME:UTC
DTSTART:20230101T000000
END:STANDARD
END:VTIMEZONE
BEGIN:VEVENT
DTSTART;TZID=UTC:20240613T120000
DTEND;TZID=UTC:20240613T210000
DTSTAMP:20260425T081456
CREATED:20240603T234315Z
LAST-MODIFIED:20240603T234315Z
UID:10001622-1718280000-1718312400@stonesilobrewery.com
SUMMARY:Teacher & Staff Appreciation $2 off Beer/Seltzer
DESCRIPTION:
URL:https://stonesilobrewery.com/event/teacher-staff-appreciation-2-off-beer-seltzer-2/
END:VEVENT
BEGIN:VEVENT
DTSTART;TZID=UTC:20240613T180000
DTEND;TZID=UTC:20240613T210000
DTSTAMP:20260425T081456
CREATED:20240530T234454Z
LAST-MODIFIED:20240530T234805Z
UID:10001619-1718301600-1718312400@stonesilobrewery.com
SUMMARY:Live Music - Rick Windon
DESCRIPTION:
URL:https://stonesilobrewery.com/event/live-music-rick-windon/
END:VEVENT
END:VCALENDAR